BEGIN:VCALENDAR
VERSION:2.0
PRODID:-//His Masterpiece Church - ECPv6.15.20//NONSGML v1.0//EN
CALSCALE:GREGORIAN
METHOD:PUBLISH
X-WR-CALNAME:His Masterpiece Church
X-ORIGINAL-URL:https://hismasterpieceministry.org
X-WR-CALDESC:Events for His Masterpiece Church
REFRESH-INTERVAL;VALUE=DURATION:PT1H
X-Robots-Tag:noindex
X-PUBLISHED-TTL:PT1H
BEGIN:VTIMEZONE
TZID:UTC
BEGIN:STANDARD
TZOFFSETFROM:+0000
TZOFFSETTO:+0000
TZNAME:UTC
DTSTART:20250101T000000
END:STANDARD
END:VTIMEZONE
BEGIN:VEVENT
DTSTART;VALUE=DATE:20260406
DTEND;VALUE=DATE:20260413
DTSTAMP:20260419T144755
CREATED:20260408T162021Z
LAST-MODIFIED:20260416T120401Z
UID:7398-1775433600-1776038399@hismasterpieceministry.org
SUMMARY:HMC 13th Anniversary & Apostolic Summit
DESCRIPTION:
URL:https://hismasterpieceministry.org/our-event/hmc-13th-anniversary-apostolic-summit/
LOCATION:His Matserpiece Church\, 2 Babatunde Oki Street Off\, Town Planning Way Ilupeju\,\, Lagos\, 10001\, Nigeria
CATEGORIES:Annual Anniversary
ATTACH;FMTTYPE=image/jpeg:https://hismasterpieceministry.org/wp-content/uploads/2026/04/13-years-anniversary-hmc.jpeg
END:VEVENT
END:VCALENDAR