BEGIN:VCALENDAR
VERSION:2.0
PRODID:-//His Masterpiece Church - ECPv6.15.20//NONSGML v1.0//EN
CALSCALE:GREGORIAN
METHOD:PUBLISH
X-WR-CALNAME:His Masterpiece Church
X-ORIGINAL-URL:https://hismasterpieceministry.org
X-WR-CALDESC:Events for His Masterpiece Church
REFRESH-INTERVAL;VALUE=DURATION:PT1H
X-Robots-Tag:noindex
X-PUBLISHED-TTL:PT1H
BEGIN:VTIMEZONE
TZID:UTC
BEGIN:STANDARD
TZOFFSETFROM:+0000
TZOFFSETTO:+0000
TZNAME:UTC
DTSTART:20250101T000000
END:STANDARD
END:VTIMEZONE
BEGIN:VEVENT
DTSTART;TZID=UTC:20260417T060000
DTEND;TZID=UTC:20260424T170000
DTSTAMP:20260419T131356
CREATED:20260416T115048Z
LAST-MODIFIED:20260416T115048Z
UID:14362-1776405600-1777050000@hismasterpieceministry.org
SUMMARY:Early Morning Prayer Watch
DESCRIPTION:
URL:https://hismasterpieceministry.org/our-event/early-morning-prayer-watch/
LOCATION:His Matserpiece Church\, 2 Babatunde Oki Street Off\, Town Planning Way Ilupeju\,\, Lagos\, 10001\, Nigeria
CATEGORIES:Weekly Activities
ATTACH;FMTTYPE=image/jpeg:https://hismasterpieceministry.org/wp-content/uploads/2026/04/prayer-watch-hmc.jpeg
END:VEVENT
END:VCALENDAR